BEGIN:VCALENDAR
CALSCALE:GREGORIAN
VERSION:2.0
PRODID:-//Elixir ICalendar//Mobilizon 5.1.5//EN
BEGIN:VEVENT
CATEGORIES:java,softwareentwicklung
DESCRIPTION:Yeah\, eine neue Kollegin kommt ins Team. Mäh\, das Onboarding wird wieder ewig dauern. Yeah\, du bekommst einen neuen Arbeitslaptop. Mäh\, das Aufsetzen wird wieder ewig dauern. Yeah\, cool\, ich darf einen neuen Technologiestack benutzen. Mäh\, wie bekomme ich das lokal mit meinem bisherigen Stack verheiratet.\n\nSituationen\, die jede Entwicklerin innerlich zusammen zucken lassen. Oft behilft sich das Team mit Dokumentation\, die nicht immer aktuell ist oder für neue Kontexte gar nicht vorhanden ist.\n\nDieser Vortrag stellt anhand eines gemischten Technologiestacks (Java und JavaScript) vor\, wie das Team\, mit bestehendem Tooling aus dem jeweiligen Stack\, die Schmerzen verkleinern kann. Ausgehend davon zeigt es\, wie neue Werkzeuge wie Devcontainer (basierend auf Container) und Devshell (basierend auf Nix) lokale Entwicklungsumgebungen schmerzfrei pflegbar machen können.\n\nDie Speakerin - Sandra Parsick\n\nIch bin als freiberufliche Softwareentwicklerin und Beraterin im Java Umfeld tätig. Seit 2008 beschäftigte ich mich mit agiler Softwareentwicklung in verschiedenen Rollen. Gerne unterstütze und berate ich Sie in den Bereichen der Java Enterprise Anwendungen\, agilen Methoden\, Software Craftsmanship und in der Automatisierung von Softwareentwicklungsprozessen.\n\n\n\nDoors Open: 18:00\n\nStart: 18:30\n\n
DTEND;TZID=Europe/Berlin:20260507T220000
DTSTAMP:20260423T123236Z
DTSTART;TZID=Europe/Berlin:20260507T180000
LOCATION:ilume informatik ag Rheinstraße 4G 55116 Mainz
ORGANIZER:JUG Mainz
STATUS:CONFIRMED
SUMMARY:Dev Env Reloaded - Die lokale Entwicklungsumgebung neu gedacht
UID:7fbbe5dc-ddf7-42a7-bd9d-1ba3a3d05f37
URL:https://events.ijug.eu/events/7fbbe5dc-ddf7-42a7-bd9d-1ba3a3d05f37
END:VEVENT
END:VCALENDAR
